{
 "currentVersion": 10.81,
 "serviceDescription": "City of Auburn Aerial 2014",
 "mapName": "Layers",
 "description": "",
 "copyrightText": "City of Auburn, AL",
 "supportsDynamicLayers": false,
 "layers": [
  {
   "id": 23527434,
   "name": "Aerial.DATALOADER.AP2014",
   "parentLayerId": -1,
   "defaultVisibility": true,
   "subLayerIds": [
    23527435,
    23527436,
    23527437
   ],
   "minScale": 0,
   "maxScale": 0,
   "type": "Mosaic Layer"
  },
  {
   "id": 23527435,
   "name": "Boundary",
   "parentLayerId": 23527434,
   "defaultVisibility": false,
   "subLayerIds": null,
   "minScale": 0,
   "maxScale": 0,
   "type": "Feature Layer",
   "geometryType": "esriGeometryPolygon"
  },
  {
   "id": 23527436,
   "name": "Footprint",
   "parentLayerId": 23527434,
   "defaultVisibility": false,
   "subLayerIds": null,
   "minScale": 0,
   "maxScale": 0,
   "type": "Feature Layer",
   "geometryType": "esriGeometryPolygon"
  },
  {
   "id": 23527437,
   "name": "Image",
   "parentLayerId": 23527434,
   "defaultVisibility": true,
   "subLayerIds": null,
   "minScale": 0,
   "maxScale": 0,
   "type": "Raster Layer"
  }
 ],
 "tables": [],
 "spatialReference": {
  "wkid": 102629,
  "latestWkid": 102629
 },
 "singleFusedMapCache": true,
 "tileInfo": {
  "rows": 256,
  "cols": 256,
  "dpi": 96,
  "format": "JPEG",
  "compressionQuality": 75,
  "origin": {
   "x": -17791600,
   "y": 21739700
  },
  "spatialReference": {
   "wkid": 102629,
   "latestWkid": 102629
  },
  "lods": [
   {
    "level": 0,
    "resolution": 108.50694444444444,
    "scale": 125000
   },
   {
    "level": 1,
    "resolution": 55.55555555555555,
    "scale": 64000
   },
   {
    "level": 2,
    "resolution": 27.777777777777775,
    "scale": 32000
   },
   {
    "level": 3,
    "resolution": 13.888888888888888,
    "scale": 16000
   },
   {
    "level": 4,
    "resolution": 6.944444444444444,
    "scale": 8000
   },
   {
    "level": 5,
    "resolution": 3.472222222222222,
    "scale": 4000
   },
   {
    "level": 6,
    "resolution": 1.736111111111111,
    "scale": 2000
   },
   {
    "level": 7,
    "resolution": 0.8680555555555555,
    "scale": 1000
   },
   {
    "level": 8,
    "resolution": 0.43402777777777773,
    "scale": 500
   }
  ]
 },
 "initialExtent": {
  "xmin": 742222.4247199591,
  "ymin": 760788.8459105117,
  "xmax": 793537.4247199589,
  "ymax": 785538.8459105117,
  "spatialReference": {
   "wkid": 102629,
   "latestWkid": 102629
  }
 },
 "fullExtent": {
  "xmin": 697928.6977059133,
  "ymin": 694831.8410477415,
  "xmax": 913033.7850069106,
  "ymax": 822869.3766570762,
  "spatialReference": {
   "wkid": 102629,
   "latestWkid": 102629
  }
 },
 "minScale": 125000,
 "maxScale": 500,
 "units": "esriFeet",
 "supportedImageFormatTypes": "PNG32,PNG24,PNG,JPG,DIB,TIFF,EMF,PS,PDF,GIF,SVG,SVGZ,BMP",
 "documentInfo": {
  "Title": "",
  "Author": "",
  "Comments": "",
  "Subject": "Lee County Aerial Photography 2014",
  "Category": "",
  "AntialiasingMode": "None",
  "TextAntialiasingMode": "Force",
  "Keywords": "Auburn,Aerial,2014"
 },
 "capabilities": "Map,Query,Data",
 "supportedQueryFormats": "JSON, geoJSON",
 "exportTilesAllowed": false,
 "referenceScale": 0,
 "supportsDatumTransformation": true,
 "maxRecordCount": 1000,
 "maxImageHeight": 4096,
 "maxImageWidth": 4096,
 "supportedExtensions": ""
}
